BEGIN:VCALENDAR
VERSION:2.0
PRODID:Events Booking
BEGIN:VEVENT
UID:69e526a4ce1de
SUMMARY:XXVI° Congresso Regionale A.C.O.I. Toscana - La Litiasi Biliare St
 ato dell'Arte
DESCRIPTION:
DTSTART:20051208T230000Z
DTEND:20051208T230000Z
DTSTAMP:20260419T190156Z
ORGANIZER;CN=Askservice:MAILTO:info@askservice.it
END:VEVENT
END:VCALENDAR