BEGIN:VCALENDAR
VERSION:2.0
PRODID:Events Booking
BEGIN:VEVENT
UID:69e53a699a0ad
SUMMARY:WS: Attuali strategie di trattamento del colon-retto laparoscopica 
DESCRIPTION:
DTSTART:20180924T220000Z
DTEND:20180924T220000Z
DTSTAMP:20260419T202617Z
ORGANIZER;CN=Askservice:MAILTO:info@askservice.it
END:VEVENT
END:VCALENDAR