BEGIN:VCALENDAR
VERSION:2.0
PRODID:Events Booking
BEGIN:VEVENT
UID:69e521ffdc59b
SUMMARY:WORKSHOP IN CHIRURGIA LAPAROSCOPICA AVANZATA
DESCRIPTION:
DTSTART:20110712T220000Z
DTEND:20110712T220000Z
DTSTAMP:20260419T184207Z
ORGANIZER;CN=Askservice:MAILTO:info@askservice.it
END:VEVENT
END:VCALENDAR