BEGIN:VCALENDAR
VERSION:2.0
PRODID:Events Booking
BEGIN:VEVENT
UID:69e5241b8cd26
SUMMARY:Tumore Colon-Retto: Attualità  nella Diagnosi e Terapia
DESCRIPTION:
DTSTART:20100122T230000Z
DTEND:20100122T230000Z
DTSTAMP:20260419T185107Z
ORGANIZER;CN=Askservice:MAILTO:info@askservice.it
END:VEVENT
END:VCALENDAR