BEGIN:VCALENDAR
VERSION:2.0
PRODID:Events Booking
BEGIN:VEVENT
UID:69e5254eec6dd
SUMMARY:Trattamento della Malattia Emorroidaria e Sindrome da Ostruita Defe
 caz.con Suturatrice Meccanica 
DESCRIPTION:
DTSTART:20121212T230000Z
DTEND:20121212T230000Z
DTSTAMP:20260419T185614Z
ORGANIZER;CN=Askservice:MAILTO:info@askservice.it
END:VEVENT
END:VCALENDAR