BEGIN:VCALENDAR
VERSION:2.0
PRODID:Events Booking
BEGIN:VEVENT
UID:69e521a35472c
SUMMARY:Transtar Meeting
DESCRIPTION:
DTSTART:20091015T220000Z
DTEND:20091015T220000Z
DTSTAMP:20260419T184035Z
ORGANIZER;CN=Askservice:MAILTO:info@askservice.it
END:VEVENT
END:VCALENDAR