BEGIN:VCALENDAR
VERSION:2.0
PRODID:Events Booking
BEGIN:VEVENT
UID:69e539fc0d839
SUMMARY:SCUOLA SPECIALE ACOI DI CHIRURGIA DELL'ESOFAGO 2018
DESCRIPTION:
DTSTART:20181021T220000Z
DTEND:20181021T220000Z
DTSTAMP:20260419T202428Z
ORGANIZER;CN=Askservice:MAILTO:info@askservice.it
END:VEVENT
END:VCALENDAR