BEGIN:VCALENDAR
VERSION:2.0
PRODID:Events Booking
BEGIN:VEVENT
UID:69e53908e30b7
SUMMARY:ROBOTIC THORACIC SURGERY PARIS
DESCRIPTION:
DTSTART:20161117T230000Z
DTEND:20161117T230000Z
DTSTAMP:20260419T202024Z
ORGANIZER;CN=Askservice:MAILTO:info@askservice.it
END:VEVENT
END:VCALENDAR