BEGIN:VCALENDAR
VERSION:2.0
PRODID:Events Booking
BEGIN:VEVENT
UID:69e538d84862b
SUMMARY:RICORDANDO ALFONSO
DESCRIPTION:
DTSTART:20190128T230000Z
DTEND:20190128T230000Z
DTSTAMP:20260419T201936Z
ORGANIZER;CN=Askservice:MAILTO:info@askservice.it
END:VEVENT
END:VCALENDAR