BEGIN:VCALENDAR
VERSION:2.0
PRODID:Events Booking
BEGIN:VEVENT
UID:69e5254ecffe7
SUMMARY:Programma Formativo Dipartimento di Gastroenterologia - Azienda Osp
 edaliero - Universitaria Pisana
DESCRIPTION:
DTSTART:20100228T230000Z
DTEND:20100228T230000Z
DTSTAMP:20260419T185614Z
ORGANIZER;CN=Askservice:MAILTO:info@askservice.it
END:VEVENT
END:VCALENDAR