BEGIN:VCALENDAR
VERSION:2.0
PRODID:Events Booking
BEGIN:VEVENT
UID:69e52252d28f2
SUMMARY:Programma Formativo Chirurgia Bariatrica Laparoscopica 2009
DESCRIPTION:
DTSTART:20090510T220000Z
DTEND:20090510T220000Z
DTSTAMP:20260419T184330Z
ORGANIZER;CN=Askservice:MAILTO:info@askservice.it
END:VEVENT
END:VCALENDAR