BEGIN:VCALENDAR
VERSION:2.0
PRODID:Events Booking
BEGIN:VEVENT
UID:69e539651d695
SUMMARY:Proctological and Pelvic Floor Diseases
DESCRIPTION:
DTSTART:20141022T220000Z
DTEND:20141022T220000Z
DTSTAMP:20260419T202157Z
ORGANIZER;CN=Askservice:MAILTO:info@askservice.it
END:VEVENT
END:VCALENDAR