BEGIN:VCALENDAR
VERSION:2.0
PRODID:Events Booking
BEGIN:VEVENT
UID:69e521f98a791
SUMMARY:Presentazione Nuova UP! Volkswagen
DESCRIPTION:
DTSTART:20120113T230000Z
DTEND:20120113T230000Z
DTSTAMP:20260419T184201Z
ORGANIZER;CN=Askservice:MAILTO:info@askservice.it
END:VEVENT
END:VCALENDAR