BEGIN:VCALENDAR
VERSION:2.0
PRODID:Events Booking
BEGIN:VEVENT
UID:69e5223ac0395
SUMMARY:Meeting Nazionale - Bariatric Edge
DESCRIPTION:
DTSTART:20071002T220000Z
DTEND:20071002T220000Z
DTSTAMP:20260419T184306Z
ORGANIZER;CN=Askservice:MAILTO:info@askservice.it
END:VEVENT
END:VCALENDAR