BEGIN:VCALENDAR
VERSION:2.0
PRODID:Events Booking
BEGIN:VEVENT
UID:69e4f7001dda1
SUMMARY:Webinar Courses - Impatto delle Nuove Tecnologie in Chirurgia Torac
 ica: Prospettive Future
DESCRIPTION:
LOCATION:via Paradisa 2
DTSTART:20211112T130000Z
DTEND:20211112T150000Z
DTSTAMP:20260419T153840Z
ORGANIZER;CN=Askservice:MAILTO:info@askservice.it
END:VEVENT
END:VCALENDAR