BEGIN:VCALENDAR
VERSION:2.0
PRODID:Events Booking
BEGIN:VEVENT
UID:69e521a2018b0
SUMMARY:Le Metastasi oggi
DESCRIPTION:
DTSTART:20091218T230000Z
DTEND:20091218T230000Z
DTSTAMP:20260419T184034Z
ORGANIZER;CN=Askservice:MAILTO:info@askservice.it
END:VEVENT
END:VCALENDAR