BEGIN:VCALENDAR
VERSION:2.0
PRODID:Events Booking
BEGIN:VEVENT
UID:69e52277aa6a9
SUMMARY:Inquadramento e Trattamento della Patologia Emorroidaria
DESCRIPTION:
DTSTART:20110606T220000Z
DTEND:20110606T220000Z
DTSTAMP:20260419T184407Z
ORGANIZER;CN=Askservice:MAILTO:info@askservice.it
END:VEVENT
END:VCALENDAR