BEGIN:VCALENDAR
VERSION:2.0
PRODID:Events Booking
BEGIN:VEVENT
UID:69e521a27ee1a
SUMMARY: WORKSHOP 
DESCRIPTION:
DTSTART:20130918T220000Z
DTEND:20130918T220000Z
DTSTAMP:20260419T184034Z
ORGANIZER;CN=Askservice:MAILTO:info@askservice.it
END:VEVENT
END:VCALENDAR