BEGIN:VCALENDAR
VERSION:2.0
PRODID:Events Booking
BEGIN:VEVENT
UID:69e5231e1c915
SUMMARY:WORKSHOP Il Trattamento dell'Esofago di Barrett con displasia:
DESCRIPTION:
DTSTART:20131128T230000Z
DTEND:20131128T230000Z
DTSTAMP:20260419T184654Z
ORGANIZER;CN=Askservice:MAILTO:info@askservice.it
END:VEVENT
END:VCALENDAR