BEGIN:VCALENDAR
VERSION:2.0
PRODID:Events Booking
BEGIN:VEVENT
UID:69e53a760439a
SUMMARY:Workshop CHIRURGIA EPATICA DELLE METASTASI DA COLON-RETTO:
DESCRIPTION:
DTSTART:20150617T220000Z
DTEND:20150617T220000Z
DTSTAMP:20260419T202630Z
ORGANIZER;CN=Askservice:MAILTO:info@askservice.it
END:VEVENT
END:VCALENDAR