BEGIN:VCALENDAR
VERSION:2.0
PRODID:Events Booking
BEGIN:VEVENT
UID:69e522525a90b
SUMMARY:WHAT'S NEW IN THYROID SURGERY
DESCRIPTION:
DTSTART:20181008T220000Z
DTEND:20181008T220000Z
DTSTAMP:20260419T184330Z
ORGANIZER;CN=Askservice:MAILTO:info@askservice.it
END:VEVENT
END:VCALENDAR