BEGIN:VCALENDAR
VERSION:2.0
PRODID:Events Booking
BEGIN:VEVENT
UID:69e50ddbd9cd3
SUMMARY:Trattamento delle patologie funzionali colonproctologiche mediante 
 impianto di neuromodulazione sacr
DESCRIPTION:
DTSTART:20100609T220000Z
DTEND:20100609T220000Z
DTSTAMP:20260419T171611Z
ORGANIZER;CN=Askservice:MAILTO:info@askservice.it
END:VEVENT
END:VCALENDAR