BEGIN:VCALENDAR
VERSION:2.0
PRODID:Events Booking
BEGIN:VEVENT
UID:69e50db5b3256
SUMMARY:Trattamento della defecazione ostruita mediante resezione rettale t
 ransanale
DESCRIPTION:
DTSTART:20100607T220000Z
DTEND:20100607T220000Z
DTSTAMP:20260419T171533Z
ORGANIZER;CN=Askservice:MAILTO:info@askservice.it
END:VEVENT
END:VCALENDAR