BEGIN:VCALENDAR
VERSION:2.0
PRODID:Events Booking
BEGIN:VEVENT
UID:69e522ca0286a
SUMMARY:Serata di discussione di colonproctologia
DESCRIPTION:
DTSTART:20160921T220000Z
DTEND:20160921T220000Z
DTSTAMP:20260419T184530Z
ORGANIZER;CN=Askservice:MAILTO:info@askservice.it
END:VEVENT
END:VCALENDAR