BEGIN:VCALENDAR
VERSION:2.0
PRODID:Events Booking
BEGIN:VEVENT
UID:69e522b0ebca6
SUMMARY:Scuola Speciale di Chirurgia dell'Esofago 
DESCRIPTION:
DTSTART:20130922T220000Z
DTEND:20130922T220000Z
DTSTAMP:20260419T184504Z
ORGANIZER;CN=Askservice:MAILTO:info@askservice.it
END:VEVENT
END:VCALENDAR