BEGIN:VCALENDAR
VERSION:2.0
PRODID:Events Booking
BEGIN:VEVENT
UID:69e53ad74d85d
SUMMARY:SCUOLA A.C.O.I DI CHIRURGIA TORACICA MININVASIVA & ROBOTICA
DESCRIPTION:
DTSTART:20180514T220000Z
DTEND:20180514T220000Z
DTSTAMP:20260419T202807Z
ORGANIZER;CN=Askservice:MAILTO:info@askservice.it
END:VEVENT
END:VCALENDAR