BEGIN:VCALENDAR
VERSION:2.0
PRODID:Events Booking
BEGIN:VEVENT
UID:69e522e5043d1
SUMMARY:Scuola ACOI di Chirurgia dell'Esofago  2019
DESCRIPTION:
DTSTART:20190519T220000Z
DTEND:20190519T220000Z
DTSTAMP:20260419T184557Z
ORGANIZER;CN=Askservice:MAILTO:info@askservice.it
END:VEVENT
END:VCALENDAR