BEGIN:VCALENDAR
VERSION:2.0
PRODID:Events Booking
BEGIN:VEVENT
UID:69e521a2354c5
SUMMARY:	Il Trattamento chirurgico robot-assisted  	delle ernie jatali perm
 agne
DESCRIPTION:
DTSTART:20160426T220000Z
DTEND:20160426T220000Z
DTSTAMP:20260419T184034Z
ORGANIZER;CN=Askservice:MAILTO:info@askservice.it
END:VEVENT
END:VCALENDAR