BEGIN:VCALENDAR
VERSION:2.0
PRODID:Events Booking
BEGIN:VEVENT
UID:69e50d28ba3d1
SUMMARY:Raccomandazioni in Anestesia e Analgesia Ostetrica
DESCRIPTION:
DTSTART:20090522T220000Z
DTEND:20090522T220000Z
DTSTAMP:20260419T171312Z
ORGANIZER;CN=Askservice:MAILTO:info@askservice.it
END:VEVENT
END:VCALENDAR