BEGIN:VCALENDAR
VERSION:2.0
PRODID:Events Booking
BEGIN:VEVENT
UID:69e50ce7e860f
SUMMARY:Promozioni e Pubbliche relazioni - Storico
DESCRIPTION:
DTSTART:19990102T230000Z
DTEND:19990102T230000Z
DTSTAMP:20260419T171207Z
ORGANIZER;CN=Askservice:MAILTO:info@askservice.it
END:VEVENT
END:VCALENDAR