BEGIN:VCALENDAR
VERSION:2.0
PRODID:Events Booking
BEGIN:VEVENT
UID:69e522b140d56
SUMMARY:Minimal Invasive and Robotic Approach in Thoracic Surgery
DESCRIPTION:
DTSTART:20161023T220000Z
DTEND:20161023T220000Z
DTSTAMP:20260419T184505Z
ORGANIZER;CN=Askservice:MAILTO:info@askservice.it
END:VEVENT
END:VCALENDAR