BEGIN:VCALENDAR
VERSION:2.0
PRODID:Events Booking
BEGIN:VEVENT
UID:69e52276cb540
SUMMARY:MASTERCLASS IN PROCTOLOGIA E PAVIMENTO PELVICO
DESCRIPTION:
DTSTART:20180524T220000Z
DTEND:20180524T220000Z
DTSTAMP:20260419T184406Z
ORGANIZER;CN=Askservice:MAILTO:info@askservice.it
END:VEVENT
END:VCALENDAR