BEGIN:VCALENDAR
VERSION:2.0
PRODID:Events Booking
BEGIN:VEVENT
UID:69e523137eff5
SUMMARY:LA CISTECTOMIA RADICALE: ANATOMIA OPEN CON ENERGY DEVICE DI ULTIMA 
 GENERAZIONE
DESCRIPTION:
DTSTART:20191016T220000Z
DTEND:20191016T220000Z
DTSTAMP:20260419T184643Z
ORGANIZER;CN=Askservice:MAILTO:info@askservice.it
END:VEVENT
END:VCALENDAR