BEGIN:VCALENDAR
VERSION:2.0
PRODID:Events Booking
BEGIN:VEVENT
UID:69e53b220e475
SUMMARY:LA CHIRURGIA MININVASIVA NELLE NEOPLASIE ESOFAGO-GASTRICHE
DESCRIPTION:
DTSTART:20171129T230000Z
DTEND:20171129T230000Z
DTSTAMP:20260419T202922Z
ORGANIZER;CN=Askservice:MAILTO:info@askservice.it
END:VEVENT
END:VCALENDAR