BEGIN:VCALENDAR
VERSION:2.0
PRODID:Events Booking
BEGIN:VEVENT
UID:69e53b36be640
SUMMARY:La chirurgia mininvasiva nelle neoplasie esofago-gastriche  17 €
 “ 18 Novembre 2016
DESCRIPTION:
DTSTART:20161116T230000Z
DTEND:20161116T230000Z
DTSTAMP:20260419T202942Z
ORGANIZER;CN=Askservice:MAILTO:info@askservice.it
END:VEVENT
END:VCALENDAR