BEGIN:VCALENDAR
VERSION:2.0
PRODID:Events Booking
BEGIN:VEVENT
UID:69e50ddd58923
SUMMARY:La Chirurgia Bariatrica-Un'importante opzione terapeutica nella gra
 nde obesità 
DESCRIPTION:
DTSTART:20080918T220000Z
DTEND:20080918T220000Z
DTSTAMP:20260419T171613Z
ORGANIZER;CN=Askservice:MAILTO:info@askservice.it
END:VEVENT
END:VCALENDAR