BEGIN:VCALENDAR
VERSION:2.0
PRODID:Events Booking
BEGIN:VEVENT
UID:69e522e467ac7
SUMMARY:INTERNATIONAL MASTERCLASS ON PROCTOLOGY AND PELVIC FLOOR DISEASES
DESCRIPTION:
DTSTART:20190612T220000Z
DTEND:20190612T220000Z
DTSTAMP:20260419T184556Z
ORGANIZER;CN=Askservice:MAILTO:info@askservice.it
END:VEVENT
END:VCALENDAR