BEGIN:VCALENDAR
VERSION:2.0
PRODID:Events Booking
BEGIN:VEVENT
UID:69e50c704b646
SUMMARY:III° Congresso N.A.D.
DESCRIPTION:
DTSTART:20060615T220000Z
DTEND:20060615T220000Z
DTSTAMP:20260419T171008Z
ORGANIZER;CN=Askservice:MAILTO:info@askservice.it
END:VEVENT
END:VCALENDAR