BEGIN:VCALENDAR
VERSION:2.0
PRODID:Events Booking
BEGIN:VEVENT
UID:69e4f4ea3b04b
SUMMARY:I° Trofeo Castelli di Lunigiana - Challenge Fioretto Femminile 
DESCRIPTION:
DTSTART:20040505T220000Z
DTEND:20040505T220000Z
DTSTAMP:20260419T152946Z
ORGANIZER;CN=Askservice:MAILTO:info@askservice.it
END:VEVENT
END:VCALENDAR