BEGIN:VCALENDAR
VERSION:2.0
PRODID:Events Booking
BEGIN:VEVENT
UID:69e53a0712b07
SUMMARY:HOT TOPICS IN ESOPHAGEAL DISEASES
DESCRIPTION:
DTSTART:20151126T230000Z
DTEND:20151126T230000Z
DTSTAMP:20260419T202439Z
ORGANIZER;CN=Askservice:MAILTO:info@askservice.it
END:VEVENT
END:VCALENDAR