BEGIN:VCALENDAR
VERSION:2.0
PRODID:Events Booking
BEGIN:VEVENT
UID:69e539b8110f0
SUMMARY:CORSO TEORICO-PRATICO RESIDENZIALE
DESCRIPTION:
DTSTART:20150610T220000Z
DTEND:20150610T220000Z
DTSTAMP:20260419T202320Z
ORGANIZER;CN=Askservice:MAILTO:info@askservice.it
END:VEVENT
END:VCALENDAR