BEGIN:VCALENDAR
VERSION:2.0
PRODID:Events Booking
BEGIN:VEVENT
UID:69e522b0c4c13
SUMMARY:CORSO DI FORMAZIONE IN ENDOCRINOCHIRURGIA
DESCRIPTION:
DTSTART:20180415T220000Z
DTEND:20180415T220000Z
DTSTAMP:20260419T184504Z
ORGANIZER;CN=Askservice:MAILTO:info@askservice.it
END:VEVENT
END:VCALENDAR