BEGIN:VCALENDAR
VERSION:2.0
PRODID:Events Booking
BEGIN:VEVENT
UID:69e5239c51e04
SUMMARY:Corso Colonproctologia-Trattamento delle patologie funzionali colon
 proctologiche mediante impianto..
DESCRIPTION:
DTSTART:20100609T220000Z
DTEND:20100609T220000Z
DTSTAMP:20260419T184900Z
ORGANIZER;CN=Askservice:MAILTO:info@askservice.it
END:VEVENT
END:VCALENDAR