BEGIN:VCALENDAR
VERSION:2.0
PRODID:Events Booking
BEGIN:VEVENT
UID:69e50d353d560
SUMMARY:Corso Colonproctologia - Inquadramento e trattamento della patologi
 a emorroidaria
DESCRIPTION:
DTSTART:20100503T220000Z
DTEND:20100503T220000Z
DTSTAMP:20260419T171325Z
ORGANIZER;CN=Askservice:MAILTO:info@askservice.it
END:VEVENT
END:VCALENDAR