BEGIN:VCALENDAR
VERSION:2.0
PRODID:Events Booking
BEGIN:VEVENT
UID:69e50d8c2a63b
SUMMARY:Corsi Linguistici e di Formazione Professionale - Storico
DESCRIPTION:
DTSTART:19990101T230000Z
DTEND:19990101T230000Z
DTSTAMP:20260419T171452Z
ORGANIZER;CN=Askservice:MAILTO:info@askservice.it
END:VEVENT
END:VCALENDAR