BEGIN:VCALENDAR
VERSION:2.0
PRODID:Events Booking
BEGIN:VEVENT
UID:69e50d3f1b66a
SUMMARY:Consensus Refertazione nell'Ecografia Transanale e Transrettale a 3
 60° Tridimensionale
DESCRIPTION:
DTSTART:20091008T220000Z
DTEND:20091008T220000Z
DTSTAMP:20260419T171335Z
ORGANIZER;CN=Askservice:MAILTO:info@askservice.it
END:VEVENT
END:VCALENDAR