BEGIN:VCALENDAR
VERSION:2.0
PRODID:Events Booking
BEGIN:VEVENT
UID:69e523136258a
SUMMARY:CHIRURGIA ROBOTICA MULTIDISCIPLINARE: SVILUPPO DI UN TEAM INTEGRATO
  
DESCRIPTION:
DTSTART:20181109T230000Z
DTEND:20181109T230000Z
DTSTAMP:20260419T184643Z
ORGANIZER;CN=Askservice:MAILTO:info@askservice.it
END:VEVENT
END:VCALENDAR