BEGIN:VCALENDAR
VERSION:2.0
PRODID:Events Booking
BEGIN:VEVENT
UID:69e522a9b7023
SUMMARY:CHIRURGIA MININVASIVA DEL LAPAROCELE
DESCRIPTION:
DTSTART:20121107T230000Z
DTEND:20121107T230000Z
DTSTAMP:20260419T184457Z
ORGANIZER;CN=Askservice:MAILTO:info@askservice.it
END:VEVENT
END:VCALENDAR