BEGIN:VCALENDAR
VERSION:2.0
PRODID:Events Booking
BEGIN:VEVENT
UID:69e50d9104bd9
SUMMARY:Biennale Internazionale di Scultura Città  di Carrara Edizione IX
 ° e X°
DESCRIPTION:
DTSTART:20000630T220000Z
DTEND:20000630T220000Z
DTSTAMP:20260419T171457Z
ORGANIZER;CN=Askservice:MAILTO:info@askservice.it
END:VEVENT
END:VCALENDAR