BEGIN:VCALENDAR
VERSION:2.0
PRODID:Events Booking
BEGIN:VEVENT
UID:69e522ca2622e
SUMMARY:Approccio Multidisciplinare alla Malattia di Chron Complicata
DESCRIPTION:
DTSTART:20190515T220000Z
DTEND:20190515T220000Z
DTSTAMP:20260419T184530Z
ORGANIZER;CN=Askservice:MAILTO:info@askservice.it
END:VEVENT
END:VCALENDAR